BEGIN:VCALENDAR
VERSION:2.0
PRODID:-//Global Roundtable for Sustainable Beef - ECPv6.14.2//NONSGML v1.0//EN
CALSCALE:GREGORIAN
METHOD:PUBLISH
X-WR-CALNAME:Global Roundtable for Sustainable Beef
X-ORIGINAL-URL:https://grsbeef.org
X-WR-CALDESC:Events for Global Roundtable for Sustainable Beef
REFRESH-INTERVAL;VALUE=DURATION:PT1H
X-Robots-Tag:noindex
X-PUBLISHED-TTL:PT1H
BEGIN:VTIMEZONE
TZID:America/Denver
BEGIN:DAYLIGHT
TZOFFSETFROM:-0700
TZOFFSETTO:-0600
TZNAME:MDT
DTSTART:20240310T090000
END:DAYLIGHT
BEGIN:STANDARD
TZOFFSETFROM:-0600
TZOFFSETTO:-0700
TZNAME:MST
DTSTART:20241103T080000
END:STANDARD
END:VTIMEZONE
BEGIN:VEVENT
DTSTART;TZID=America/Denver:20240522T000000
DTEND;TZID=America/Denver:20240619T000000
DTSTAMP:20260420T092955
CREATED:20240522T220558Z
LAST-MODIFIED:20240522T220558Z
UID:3383-1716336000-1718755200@grsbeef.org
SUMMARY:Sustainable Livestock Modular Course - Curso Modular Ganaderia Sostenible
DESCRIPTION:Discover sustainable livestock farming with our Sustainable Livestock Capsules!! 🐮🌱🇵🇾\nLearn about economics\, business planning\, animal health\, biodiversity\, and more.\n \nDescubre la ganadería sostenible con nuestras Capsulas de Ganadería Sostenible!! 🐮🌱🇵🇾\nAprende sobre aspectos económicos\, planificación de negocios\, salud animal\, biodiversidad y más. 📈🐮🥩\n22 de mayo – 19 de junio
URL:https://grsbeef.org/calendar-event/sustainable-livestock-modular-course-curso-modular-ganaderia-sostenible/
LOCATION:Online
END:VEVENT
END:VCALENDAR